BEGIN:VCALENDAR
VERSION:2.0
PRODID:-//Diversify - ECPv6.15.18//NONSGML v1.0//EN
CALSCALE:GREGORIAN
METHOD:PUBLISH
X-ORIGINAL-URL:https://diversify.no
X-WR-CALDESC:Events for Diversify
REFRESH-INTERVAL;VALUE=DURATION:PT1H
X-Robots-Tag:noindex
X-PUBLISHED-TTL:PT1H
BEGIN:VTIMEZONE
TZID:Europe/Riga
BEGIN:DAYLIGHT
TZOFFSETFROM:+0200
TZOFFSETTO:+0300
TZNAME:EEST
DTSTART:20240331T010000
END:DAYLIGHT
BEGIN:STANDARD
TZOFFSETFROM:+0300
TZOFFSETTO:+0200
TZNAME:EET
DTSTART:20241027T010000
END:STANDARD
BEGIN:DAYLIGHT
TZOFFSETFROM:+0200
TZOFFSETTO:+0300
TZNAME:EEST
DTSTART:20250330T010000
END:DAYLIGHT
BEGIN:STANDARD
TZOFFSETFROM:+0300
TZOFFSETTO:+0200
TZNAME:EET
DTSTART:20251026T010000
END:STANDARD
BEGIN:DAYLIGHT
TZOFFSETFROM:+0200
TZOFFSETTO:+0300
TZNAME:EEST
DTSTART:20260329T010000
END:DAYLIGHT
BEGIN:STANDARD
TZOFFSETFROM:+0300
TZOFFSETTO:+0200
TZNAME:EET
DTSTART:20261025T010000
END:STANDARD
END:VTIMEZONE
BEGIN:VTIMEZONE
TZID:Europe/Oslo
BEGIN:DAYLIGHT
TZOFFSETFROM:+0100
TZOFFSETTO:+0200
TZNAME:CEST
DTSTART:20240331T010000
END:DAYLIGHT
BEGIN:STANDARD
TZOFFSETFROM:+0200
TZOFFSETTO:+0100
TZNAME:CET
DTSTART:20241027T010000
END:STANDARD
BEGIN:DAYLIGHT
TZOFFSETFROM:+0100
TZOFFSETTO:+0200
TZNAME:CEST
DTSTART:20250330T010000
END:DAYLIGHT
BEGIN:STANDARD
TZOFFSETFROM:+0200
TZOFFSETTO:+0100
TZNAME:CET
DTSTART:20251026T010000
END:STANDARD
BEGIN:DAYLIGHT
TZOFFSETFROM:+0100
TZOFFSETTO:+0200
TZNAME:CEST
DTSTART:20260329T010000
END:DAYLIGHT
BEGIN:STANDARD
TZOFFSETFROM:+0200
TZOFFSETTO:+0100
TZNAME:CET
DTSTART:20261025T010000
END:STANDARD
END:VTIMEZONE
BEGIN:VEVENT
DTSTART;TZID=Europe/Riga:20250522T093000
DTEND;TZID=Europe/Riga:20250522T140000
DTSTAMP:20260421T095631
CREATED:20250314T125723Z
LAST-MODIFIED:20250520T084240Z
UID:25659-1747906200-1747922400@diversify.no
SUMMARY:Diversify Global Roadshow - Riga: Courage in Leadership
DESCRIPTION:Courage in Leadership\nLeadership isn’t about titles—it’s about the courage to challenge the status quo\, make bold decisions\, and lead with integrity in times of uncertainty. \nJoin us for Courage in Leadership\, where key stakeholders from the public\, private\, and civil society sectors will engage in a solutions-driven dialogue on what it takes to lead with conviction in today’s rapidly evolving world. \nAs Latvia and countries across the world navigate shifting socio-economic\, political\, and business landscapes—alongside rapid advancements in technology and AI—how do we chart a path forward? \nTentative Overarching Discussion Themes \n\nLeadership for the Future\nInvestments\nAI & Tech\nNavigating Diversity & Inclusionin the current climate\n\nThis in-person event will feature interactive roundtable discussions\, keynotes\, and a panel discussions to foster actionable insights and cross-sector collaboration. \nHosted by Diversify\, the Riga Investment and Tourism Agency\, Swedbank and the Royal Norwegian Embassy in Riga in collaboration with PwC Latvia\, Reitan Convenience and DNB. \n📍 Date: Thursday\, May 22\, 2025\n⏰ Time: 10.00 – 14.00 EET (Doors open at 09.30 EET)\n📍 Location: Swedbank\, Balasta dambis 15\, Riga\, LV\, LV-1048\n🎟️ Free to attend – Register below! \n– – – – – – – – – – – – – – – – – – – – – – \nThis event is part of the Diversify Summit roadshow\, a global initiative leading up to the Summit on October 24 in Norway. Diversify Summit is a premier conference where leaders connect\, innovate\, and tackle urgent societal and workplace challenges under the theme Courage in Action. \nTo deepen engagement\, we’re hosting roadshow events worldwide\, bringing together local and global stakeholders. \nUpcoming stops include the Netherlands (April 24)\, Latvia (May 22)\, Germany (June)\, Nigeria (August)\, and more. \nInterested in partnering?  Contact us at contact@diversify.no. \n– – – – – – – – – – – – – – – – – – – – – – \n\n \n  \nMeet our Speakers: \nAgnese Lāce is the Minister for Culture of the Republic of Latvia\, with over a decade of experience in migration\, integration\, and public policy. Her career spans government\, international organizations\, and research institutions\, including work with the European Pact for Integration and the UN Refugee Agency (Geneva). \nBefore her current role\, she served as Parliamentary Secretary at the Ministry of Culture and as a Senior Policy Analyst at the Centre for Public Policy PROVIDUS. \nAgnese holds multiple advanced degrees in political science and international migration\, and was a PhD candidate in International Relations and Migration at Koç University and the University of Amsterdam\, under the Marie Curie INTEGRIM programme. \n———————————————– \nChisom Udeze is the Executive Director of Diversify. She is an accomplished Economist\, Strategist\, Investor\, and Founder with nearly two decades of experience leading impact-driven companies and actioning societal change. She serves on multiple boards\, including as chair\, and holds advisory roles across three continents. \nHer global work spans seven countries and includes collaborations with organizations like the European Commission and Boston Consulting Group. Chisom champions democracy\, sustainability\, justice\, and community driven and multi-stakeholder change-making. She also spearheads the Diversify Summit\, a leading conference for leadership and innovation. A passionate advocate for mental health\, Chisom enjoys tennis\, reading\, writing\, and has published on Forbes. \n———————————————– \nSandija Novicka is a Partner at COBALT Latvia office and heads the Tax Law practice group. She is an expert in Tax\, State Aid\, Public Procurement and Insurance matters. Sandija has acted as a lead advisor in large number of complex taxation matters\, in particular advising on tax planning and representing clients in tax litigation. \nDue to her profound knowledge of broader legal framework Sandija is able to offer the most efficient solutions both in transactional and litigation assignments. Sandija has lectured at the Latvian Judicial Training Center\, Latvian School of Public Administration and Riga Graduate School of Law on taxation\, EU law and state aid topics and has written extensively on those subjects. \n———————————————– \nZane Čulkstēna is a visionary entrepreneur\, strategist\, and leader at the intersection of business\, culture\, and creativity. She is the founder of ERDA\, a consultancy specializing in employer branding and organizational development\, where she supports businesses in attracting and retaining top talent through innovative strategy and insight. \nZane is also the founder and Chair of kim? contemporary art center\, a leading nonprofit promoting contemporary art in Latvia. She serves on the Supervisory Board of the Art Academy of Latvia\, bringing her strategic expertise to support the institution’s long-term development. Her work reflects a deep commitment to innovation\, impact\, and cross-sector transformation. \n———————————————– \nArtin Shams leads Swedbank Group’s efforts in Diversity\, Equity\, and Inclusion. He has served in advisory roles to senior management and worked as a Senior Project Manager in sustainability. Additionally\, he founded Swedbank’s LGBTQ+ network to support diverse communities within the organization. \nArtin’s previous experience as a Management Consultant at Oliver Wyman\, focusing on strategic topics throughout the European banking industry\, has provided him with a deep understanding of the sector. He applies this expertise to drive impactful change within Swedbank. Artin believes that integrating DEI initiatives with business strategies is crucial for achieving sustainable success and promoting an inclusive environment where everyone can thrive. \n———————————————– \nAgnese Cimdiņa is an internationally certified Diversity Manager and Business Anthropologist. She has contributed to awareness raising\, knowledge transfer and consulting in diversity management to local and international organizations since 2019. Agnese has conducted research\, led projects\, consulted\, published\, been a lecturer\, speaker & moderator on such topics as Diversity\, Equity\, Inclusion\, Belonging (DEIB)\, Diversity Competence and Management\, Internationalization of Nordic organizations\, Intercultural understanding & Trust\, Sustainability & Development\, Culture & Business in Nordic\, Baltic and Middle East societies. \nAgnese holds Masters’ and PhD degrees in Social Anthropology from the University of Bergen (Norway). She has extensive international experience working with Nordic organizations in academic\, corporate and diplomatic sectors. Agnese is also a writer and has recently published a monograph “Searching Sustainability in Arabian Deserts. An Anthropology of Market and Oil” based on her research on social and environmental sustainability in the Arab Gulf. \nAt PwC Latvia Agnese is Pan-Baltic Diversity & Inclusion Leader and a member of the CEE Inclusion & Diversity team\, helping companies to develop competence and implement strategies that promote diversity\, inclusion\, and equal opportunities in the workplace. \n———————————————– \nWenche Fredriksen is the Head of Inclusion & Diversity and at DNB. She has worked at Accenture for 30 years\, having roles within consulting\, HR and as Nordic Inclusion & Diversity Lead for many years. Wenche is an inspirational storyteller who actively uses her life experiences to open people’s hearts and minds\, and to build a more diverse and inclusive world. \n———————————————– \nSayantani Saha is the Senior Manager and Chief of Staff at Diversify\, where she leverages her diverse background in journalism\, retail\, social media management\, and community development to excel in her role. \nHer unique skill set enables her to manage high-impact projects\, such as the HerTech Incubator\, while maintaining strong communication with a variety of stakeholders. Sayantani is instrumental in fostering inclusive environments\, organizing strategic gatherings\, and spearheading community development efforts. \nWorking closely with senior leaders and providing direct support to the Executive Director\, she drives measurable change for Diversify’s clients\, ensuring alignment with the organization’s mission. Her interdisciplinary expertise\, backed by a Bachelor’s in Political Science and a Master’s in Fashion Management\, strengthens her capacity to navigate complex\, evolving challenges with a well-rounded approach. \nBeyond her work at Diversify\, Sayantani runs a macrame business called Sew and Saw — a creative passion project that perfectly complements her multifaceted career.
URL:https://diversify.no/event/pre-summit-roadshow-riga/
LOCATION:Swedbank Latvia\, Swedbank\, Balasta dambis 15\, Riga\, LV\, LV-1048\, Riga\, 1048\, Latvia
CATEGORIES:Economic Justice,Global Issues & Inequality,Health & Wellbeing
ATTACH;FMTTYPE=image/webp:https://diversify.no/wp-content/uploads/2025/03/Event-Poster-9.webp
END:VEVENT
BEGIN:VEVENT
DTSTART;TZID=Europe/Oslo:20250925T120000
DTEND;TZID=Europe/Oslo:20250925T130000
DTSTAMP:20260421T095632
CREATED:20250909T134220Z
LAST-MODIFIED:20250909T134643Z
UID:26386-1758801600-1758805200@diversify.no
SUMMARY:Building With\, Not For: The Process of Community Co-Creation
DESCRIPTION:What does it really mean to co-create with community? \nThis discussion is an invitation to explore the practice of co-creation — how it works\, why it matters\, and what co-creation makes possible. Co-creation is about listening deeply\, sharing power\, and building with people rather than for them. \nReal change doesn’t happen in isolation. It happens in community — when we choose to build together. Co-creation strengthens trust\, creates belonging\, and ensures that what we make is not only lasting\, but also relevant across different contexts. \nIn this session\, we’ll share our journey of co-creating an equity framework with artists\, cultural practitioners\, and organizations across the Nordics — the lessons we learned along the way\, and why this way of working is essential for meaningful\, sustainable change. \nThis is an invitation to reflect on what co-creation asks of us\, what it makes possible\, and why it matters for anyone who wants to create change that endures. \nJoin us digitally on September 25th at 12.00 CEST. RSVP below to attend!
URL:https://diversify.no/event/building-with-not-for-the-process-of-community-co-creation/
CATEGORIES:Community Building,Global Issues & Inequality,Health & Wellbeing,Social Issues
ATTACH;FMTTYPE=image/webp:https://diversify.no/wp-content/uploads/2025/09/Building-With-Not-For.webp
END:VEVENT
BEGIN:VEVENT
DTSTART;TZID=Europe/Oslo:20251024T073000
DTEND;TZID=Europe/Oslo:20251024T170000
DTSTAMP:20260421T095632
CREATED:20250212T100125Z
LAST-MODIFIED:20250318T163741Z
UID:25591-1761291000-1761325200@diversify.no
SUMMARY:Diversify Summit 2025 - Courage in Action
DESCRIPTION:Courage in Action is a rallying call to lead with boldness\, challenge the status quo\, and turn vision into transformative change. \nIt’s about more than bravery—it’s about acting on convictions\, pushing boundaries\, and creating tangible change. Together we step beyond comfort zones and move from dialogue to decisive action for a more inclusive\, innovative\, and sustainable future. \nJoin us in redefining what’s possible\, one courageous step at a time. \n— \n\n\n\nThe Diversify Summit is a premier global conference\, offering a unique platform for leaders to connect\, innovate\, and address urgent global\, societal\, and workplace challenges. \nRenowned as the most intersectionally inclusive conference in Europe\, it presents a vital opportunity to deepen your knowledge\, expand your network\, and cultivate meaningful\, lasting partnerships. \nSince our inception in 2022\, we have been committed to driving positive\, measurable impacts in organizations and communities\, empowering leaders and individuals to catalyze lasting transformation. \n\nSign up here!
URL:https://diversify.no/event/diversify-summit-2025-courage-in-action/
LOCATION:Thon Congress Gardermoen\, Balder allé 2\, Gardermoen\, 2060\, Norway
CATEGORIES:Economic Justice,Global Issues & Inequality,Health & Wellbeing,Migration Society & Integration
ATTACH;FMTTYPE=image/webp:https://diversify.no/wp-content/uploads/2025/02/LinkedIn-Banner-for-2025-LinkedIn-Article-Cover-Image.webp
END:VEVENT
END:VCALENDAR