BEGIN:VCALENDAR
VERSION:2.0
PRODID:-//Diversify - ECPv6.15.18//NONSGML v1.0//EN
CALSCALE:GREGORIAN
METHOD:PUBLISH
X-ORIGINAL-URL:https://diversify.no
X-WR-CALDESC:Events for Diversify
REFRESH-INTERVAL;VALUE=DURATION:PT1H
X-Robots-Tag:noindex
X-PUBLISHED-TTL:PT1H
BEGIN:VTIMEZONE
TZID:Europe/Oslo
BEGIN:DAYLIGHT
TZOFFSETFROM:+0100
TZOFFSETTO:+0200
TZNAME:CEST
DTSTART:20190331T010000
END:DAYLIGHT
BEGIN:STANDARD
TZOFFSETFROM:+0200
TZOFFSETTO:+0100
TZNAME:CET
DTSTART:20191027T010000
END:STANDARD
BEGIN:DAYLIGHT
TZOFFSETFROM:+0100
TZOFFSETTO:+0200
TZNAME:CEST
DTSTART:20200329T010000
END:DAYLIGHT
BEGIN:STANDARD
TZOFFSETFROM:+0200
TZOFFSETTO:+0100
TZNAME:CET
DTSTART:20201025T010000
END:STANDARD
BEGIN:DAYLIGHT
TZOFFSETFROM:+0100
TZOFFSETTO:+0200
TZNAME:CEST
DTSTART:20210328T010000
END:DAYLIGHT
BEGIN:STANDARD
TZOFFSETFROM:+0200
TZOFFSETTO:+0100
TZNAME:CET
DTSTART:20211031T010000
END:STANDARD
END:VTIMEZONE
BEGIN:VEVENT
DTSTART;TZID=Europe/Oslo:20200910T180000
DTEND;TZID=Europe/Oslo:20200910T193000
DTSTAMP:20260424T184508
CREATED:20250107T082548Z
LAST-MODIFIED:20250107T083924Z
UID:25111-1599760800-1599766200@diversify.no
SUMMARY:Doing the Work with Sarah Przedpelska
DESCRIPTION:Doing the Work III: Moving the conversation onwards\nWhat are you doing? \nYou’ve been reading and watching anti-racist resources and perhaps you feel like you get it. But how do we bring our anti-racism into our workplace\, classroom or family dinner table? What are actions we can do together and in our communities? \nThis coming Thursday\, we will practice intervening in racist conversations and equipping ourselves with arguments to start changing people’s minds and actions. This event is open to people of all races. \nPeople of colour are welcomed and highly encouraged to attend. \nCome to our conversation to: \n\nLearn how racism structures our society and impacts all of us\nCall people in\, not call people out\nTake risks\, make mistakes\, learn\, and keep going\nTap into mutual interest\nAppreciate that growing is good and hard
URL:https://diversify.no/event/doing-the-work-with-sarah-przedpelska/
LOCATION:HerSpace\, Strandgata 19\, Oslo\, 0152\, Norway
CATEGORIES:Global Issues & Inequality,Health & Wellbeing,Migration Society & Integration
ATTACH;FMTTYPE=image/webp:https://diversify.no/wp-content/uploads/2025/01/1-1.webp
ORGANIZER;CN="HerSpace":MAILTO:community@herspace.no
END:VEVENT
BEGIN:VEVENT
DTSTART;TZID=Europe/Oslo:20200917T180000
DTEND;TZID=Europe/Oslo:20200917T190000
DTSTAMP:20260424T184508
CREATED:20250114T094842Z
LAST-MODIFIED:20250114T094842Z
UID:25235-1600365600-1600369200@diversify.no
SUMMARY:Women in Leadership: Shine Theory
DESCRIPTION:For this Women in Leadership session\, join us to hear Chisom Udeze and Sarah Przedpelska discuss Shine Theory. \nShine Theory\, developed by Aminatou Sow and Ann Friedman\, is described as the practice of mutual investment in each other. Shine Theory represents an intentional commitment to collaborate with and support each other instead of competing with each other. \nRather than engage in insecurity\, Shine Theory encourages us to come into our power and have the confidence to be excited and supportive of someone else’s success. It embodies the attitude of “I don’t shine if you don’t shine.” It’s a practice of cultivating a spirit of genuine happiness and excitement when your friends are doing well\, and being there for them when they aren’t. When we find ways to elevate each other and help each other thrive\, it becomes contagious. \nCome to this session to learn about Shine Theory and women supporting women! \n*This event is free for HerSpace members (Spots are limited)*\n*This event is also free for participants from Africa Connect*\n \nThis is a recurring event. Every two weeks\, you will hear from a female leader who will share her story\, experience\, knowledge\, insights and/or advice. Light snacks and drinks will be served. \nAbout our speakers:\nChisom Udeze\nChisom Udeze\, according to Sarah Przedpelska:\n“When Chisom Udeze encounters a problem that irks her\, you can be certain she does not rest until something moves. She’s done it for over a decade within business development and economics\, and more recently\, she has been moving things in Oslo to create social impact through Diversify and HerSpace. Chisom is seldom perplexed by problems\, instead she sees them as puzzles in need of new constellations. The constellations she forms depend on collaborating with others and lifting together to form synergies and new solutions. No wonder the concept of Shine Theory has such a great appeal to her.” \n  \n  \nSarah Przedpelska\n \nSarah Przedpelska according to Chisom Udeze:\n“Sarah Przedpelska is a curious\, brave\, warm\, and brilliant individual. She approaches every situation with an open mind\, and a willingness to truly learn. She sees and values people as they are. In the years I have known Sarah she has been a confidante and a force of nature who I can reach out to when I need unfiltered honesty and advice. She expects me to be better than I am\, and she encourages me to aim higher. While I have practiced Shine Theory in one way or another throughout my adult life\, it was with Sarah that we first decided to make it intentional. She introduced me to the concept of Shine Theory and I look forward to continuing learning from her.”
URL:https://diversify.no/event/women-in-leadership-shine-theory/
LOCATION:HerSpace\, Strandgata 19\, Oslo\, 0152\, Norway
CATEGORIES:Community Building,Global Issues & Inequality
ATTACH;FMTTYPE=image/webp:https://diversify.no/wp-content/uploads/2025/01/WIL-2020-1-1.webp
ORGANIZER;CN="HerSpace":MAILTO:community@herspace.no
END:VEVENT
BEGIN:VEVENT
DTSTART;TZID=Europe/Oslo:20200924T180000
DTEND;TZID=Europe/Oslo:20200924T193000
DTSTAMP:20260424T184508
CREATED:20250107T083625Z
LAST-MODIFIED:20250107T084110Z
UID:25114-1600970400-1600975800@diversify.no
SUMMARY:Doing the Work with Sarah Przedpelska
DESCRIPTION:Doing the Work IV: Action oriented session\nThis Thursday is gonna be a letter writing session. Together\, we will identify racist institutional practices and come up with ideas on how they can change. We’ll write to City Hall\, businesses\, local institutions and perhaps a newspaper or two\, to ask for a response and a change in their practices. \nBring a cause or an example – we look forward to seeing you. This event is open to people of all races. People of colour are welcomed and highly encouraged to attend. \nCome to our conversation to: \n\nLearn how racism structures our society and impacts all of us\nCall people in\, not call people out\nTake risks\, make mistakes\, learn\, and keep going\nTap into mutual interest\nAppreciate that growing is good and hard
URL:https://diversify.no/event/doing-the-work-with-sarah-przedpelska-2/
LOCATION:HerSpace\, Strandgata 19\, Oslo\, 0152\, Norway
CATEGORIES:Global Issues & Inequality,Health & Wellbeing,Migration Society & Integration
ATTACH;FMTTYPE=image/webp:https://diversify.no/wp-content/uploads/2025/01/2-1.webp
ORGANIZER;CN="HerSpace":MAILTO:community@herspace.no
END:VEVENT
BEGIN:VEVENT
DTSTART;TZID=Europe/Oslo:20200929T180000
DTEND;TZID=Europe/Oslo:20200929T193000
DTSTAMP:20260424T184508
CREATED:20250107T084525Z
LAST-MODIFIED:20250107T084620Z
UID:25122-1601402400-1601407800@diversify.no
SUMMARY:Doing the Work: Hvit er også en hudfarge
DESCRIPTION:In the last few months we have been hosting Thursday conversations to navigate how we can better show up and act for racial justice. We’ve had some powerful exchanges of experiences and ideas. Regardless of the language\, the message is the same. It is time to engage with our Norwegian community on the topic of race. \nJoin us på norsk this Tuesday\, 29th of September\, to open up the conversation on racism\, for the locals. \nHvit er også en hudfarge \nFor oss som har hvit hud så er hudfarge noe vi kan velge å tenke på\, for deretter å ikke tenke mer på det. Oftest er det våre melanin-rike venner og kollegaer som har den utakknemlige jobben av å få oss til å reflektere\, stille spørsmål og handle annerledes når vi vet bedre. \nPå møtet vil du møte andre hvite mennesker som velger å ta samtalen om rasisme\, om hvithet\, og som forsøker å bedre måten de stiller opp for melanin-rike mennesker i livet og samfunnet sitt. Vi vil utforske hva hvithet betyr for vår identitet\, gjøre en refleksjons øvelse og snakke i små grupper om hvilke begrep og konsepter som kan være nyttige for å forstå rasisme og anti-rasisme i Norge. \nVelkommen til vår samtale for \n\nå lære mer om hvordan rasisme strukturerer samfunnet og angår oss alle\nutforske rasisme som tema i et rom der alle spørsmål er lov\ngjør et forsøk\, kanskje ikke få det til\, men fortsette å prøve\nmøte andre mennesker som også vil gjøre mer i arbeidet mot rasisme i Oslo\n\nDette er en del av en serie vi har hittil ført på engelsk Doing the Work\, men om du ennå ikke har deltatt\, så håper vi denne samtalen er noe du vil være med på.
URL:https://diversify.no/event/doing-the-work-hvit-er-ogsa-en-hudfarge/
LOCATION:HerSpace\, Strandgata 19\, Oslo\, 0152\, Norway
CATEGORIES:Global Issues & Inequality,Health & Wellbeing,Migration Society & Integration
ATTACH;FMTTYPE=image/webp:https://diversify.no/wp-content/uploads/2025/01/3.webp
END:VEVENT
END:VCALENDAR